BEGIN:VCALENDAR
VERSION:2.0
PRODID:-//ELCV - ECPv6.15.20//NONSGML v1.0//EN
CALSCALE:GREGORIAN
METHOD:PUBLISH
X-ORIGINAL-URL:https://www.elcv.org.uk
X-WR-CALDESC:Events for ELCV
REFRESH-INTERVAL;VALUE=DURATION:PT1H
X-Robots-Tag:noindex
X-PUBLISHED-TTL:PT1H
BEGIN:VTIMEZONE
TZID:UTC
BEGIN:STANDARD
TZOFFSETFROM:+0000
TZOFFSETTO:+0000
TZNAME:UTC
DTSTART:20170101T000000
END:STANDARD
END:VTIMEZONE
BEGIN:VEVENT
DTSTART;TZID=UTC:20191219T093000
DTEND;TZID=UTC:20191219T153000
DTSTAMP:20260421T112825
CREATED:20191217T141503Z
LAST-MODIFIED:20191217T142439Z
UID:7077-1576747800-1576769400@www.elcv.org.uk
SUMMARY:Xmas Lunch
DESCRIPTION:
URL:https://www.elcv.org.uk/event/xmas-lunch/
LOCATION:Haddington\, Waterside Bistro
CATEGORIES:Tyne Team
ORGANIZER;CN="Dave Q":MAILTO:contact@elcv.org.uk
END:VEVENT
BEGIN:VEVENT
DTSTART;TZID=UTC:20180330T100000
DTEND;TZID=UTC:20180330T140000
DTSTAMP:20260421T112825
CREATED:20191205T214355Z
LAST-MODIFIED:20191217T143124Z
UID:4650-1522404000-1522418400@www.elcv.org.uk
SUMMARY:tyne 2
DESCRIPTION:
URL:https://www.elcv.org.uk/event/tyne-2/
LOCATION:Aberlady
CATEGORIES:Dunbar,Tyne Team
ATTACH;FMTTYPE=image/jpeg:https://www.elcv.org.uk/wp-content/uploads/2018/03/Sheep-Barns-Ness-Dog.jpg
ORGANIZER;CN="John Harrison":MAILTO:jharrison@eastlothian.gov.uk
END:VEVENT
BEGIN:VEVENT
DTSTART;TZID=UTC:20180322T093000
DTEND;TZID=UTC:20180322T140000
DTSTAMP:20260421T112825
CREATED:20200112T155015Z
LAST-MODIFIED:20191217T142637Z
UID:4636-1521711000-1521727200@www.elcv.org.uk
SUMMARY:test
DESCRIPTION:Repairing the bridge at Hailes Castle
URL:https://www.elcv.org.uk/event/test/
LOCATION:dq Venue Name\, 5 Overhailes Cottages\, Haddington\, East Lothian\, EH41\, United Kingdom
CATEGORIES:Tyne Team
ORGANIZER;CN="Dave Q":MAILTO:contact@elcv.org.uk
END:VEVENT
END:VCALENDAR