BEGIN:VCALENDAR
VERSION:2.0
PRODID:-//ELCV - ECPv6.15.20//NONSGML v1.0//EN
CALSCALE:GREGORIAN
METHOD:PUBLISH
X-WR-CALNAME:ELCV
X-ORIGINAL-URL:https://www.elcv.org.uk
X-WR-CALDESC:Events for ELCV
REFRESH-INTERVAL;VALUE=DURATION:PT1H
X-Robots-Tag:noindex
X-PUBLISHED-TTL:PT1H
BEGIN:VTIMEZONE
TZID:UTC
BEGIN:STANDARD
TZOFFSETFROM:+0000
TZOFFSETTO:+0000
TZNAME:UTC
DTSTART:20180101T000000
END:STANDARD
END:VTIMEZONE
BEGIN:VEVENT
DTSTART;TZID=UTC:20191210T080000
DTEND;TZID=UTC:20191210T170000
DTSTAMP:20260421T115608
CREATED:20191217T143231Z
LAST-MODIFIED:20191217T143419Z
UID:7081-1575964800-1575997200@www.elcv.org.uk
SUMMARY:Path maint
DESCRIPTION:Path maintenance
URL:https://www.elcv.org.uk/event/path-maint/
LOCATION:Aberlady
CATEGORIES:Dunbar,Social
ORGANIZER;CN="John Harrison":MAILTO:jharrison@eastlothian.gov.uk
END:VEVENT
END:VCALENDAR